BEGIN:VCALENDAR
VERSION:2.0
PRODID:-//wp-events-plugin.com//6.4.3//EN
BEGIN:VEVENT
UID:134@guardianjewellery.co.uk
DTSTART;VALUE=DATE:20260423
DTEND;VALUE=DATE:20260427
DTSTAMP:20260420T070108Z
URL:https://www.guardianjewellery.co.uk/event/maidstone-roadshow-23rd-26th
 -april/
SUMMARY:Maidstone Roadshow 23rd - 26th April
DESCRIPTION:Our Roadshow is in Maidstone this week\, so if you have any unu
 sed jewellery be sure to check out Guardian Jewellery's 4 day Roadshow fro
 m the 23rd - 26th April at Delta Hotels Tudor Park Country Club for free v
 aluations from these jewellery quarter experts!\n\n\n\nTop Prices Paid\nCa
 sh Paid for your Gold and Silver Jewellery\n\n\n\n\n4 day\nExpert Buying e
 vent\nBy Jewellery Quarter Buyers\nThursday 23rd April\n\n9:30 AM - 6:00 P
 M\n\n&nbsp\;\n\nFriday 24th April\n\n9:30 AM - 6:00 PM\n\n&nbsp\;\n\nSatur
 day 25th April\n\n9:30 AM - 6:00 PM\n\n&nbsp\;\n\nSunday 26th April\n\n10:
 00 AM - 4:00 PM\n\n&nbsp\;\n\n\n\n\n\n\n\n\n\nDelta Hotels Tudor Park Coun
 try Club\nAshford Rd\, Bearsted\, Maidstone ME14 4NQ\nFree Parking\n\n\n\n
 We Buy\n\n 	Gold Jewellery with and without hallmarks\n 	Scrap Gold\n 	Sov
 ereigns\n 	Krugerrands and other foreign gold coins\n 	Gold watches and po
 cket watches\n 	Asian and foreign gold\n 	Pre 1947 Silver Coins\n 	Diamond
 s\n 	Platinum\n 	Palladium\n 	Silver\n\n\n\n\n\n\n\n&nbsp\;\nHow to find t
 he event\nDelta Hotels Tudor Park Country Club\nAshford Rd\, Bearsted\, Ma
 idstone ME14 4NQ\n\n \n\n\n\n&nbsp\;\ngoogle map embed html.mapouter{posit
 ion:relative\;text-align:right\;width:600px\;height:400px\;}.gmap_canvas {
 overflow:hidden\;background:none!important\;width:600px\;height:400px\;}.g
 map_iframe {width:600px!important\;height:400px!important\;}
END:VEVENT
END:VCALENDAR